BEGIN:VCALENDAR
VERSION:2.0
PRODID:-//Faculdades EST - ECPv6.15.15//NONSGML v1.0//EN
CALSCALE:GREGORIAN
METHOD:PUBLISH
X-WR-CALNAME:Faculdades EST
X-ORIGINAL-URL:https://est.edu.br
X-WR-CALDESC:Eventos para Faculdades EST
REFRESH-INTERVAL;VALUE=DURATION:PT1H
X-Robots-Tag:noindex
X-PUBLISHED-TTL:PT1H
BEGIN:VTIMEZONE
TZID:America/Sao_Paulo
BEGIN:STANDARD
TZOFFSETFROM:-0300
TZOFFSETTO:-0300
TZNAME:-03
DTSTART:20250101T000000
END:STANDARD
END:VTIMEZONE
BEGIN:VEVENT
DTSTART;TZID=America/Sao_Paulo:20260426T140000
DTEND;TZID=America/Sao_Paulo:20260426T170000
DTSTAMP:20260424T103249
CREATED:20260423T183811Z
LAST-MODIFIED:20260423T183811Z
UID:17377-1777212000-1777222800@est.edu.br
SUMMARY:EST Aberta
DESCRIPTION:A Faculdades EST realiza no domingo\, 26 de abril\, a primeira edição do projeto “EST Aberta”\, iniciativa criada para aproximar a comunidade da instituição. \nA atividade ocorre das 14h às 17h\, no campus localizado no bairro Morro do Espelho\, com entrada gratuita. \n🎉 Integrando a programação especial pelos 80 anos da EST (1946–2026)\, a proposta também incentiva a circulação pela área verde do campus\, em um ambiente pensado para convivência\, cultura e troca de experiências.
URL:https://est.edu.br/evento/est-aberta/
CATEGORIES:EST Aberta
END:VEVENT
END:VCALENDAR