BEGIN:VCALENDAR
VERSION:2.0
PRODID:-//Faculdades EST - ECPv6.15.15//NONSGML v1.0//EN
CALSCALE:GREGORIAN
METHOD:PUBLISH
X-WR-CALNAME:Faculdades EST
X-ORIGINAL-URL:https://est.edu.br
X-WR-CALDESC:Eventos para Faculdades EST
REFRESH-INTERVAL;VALUE=DURATION:PT1H
X-Robots-Tag:noindex
X-PUBLISHED-TTL:PT1H
BEGIN:VTIMEZONE
TZID:America/Sao_Paulo
BEGIN:STANDARD
TZOFFSETFROM:-0300
TZOFFSETTO:-0300
TZNAME:-03
DTSTART:20250101T000000
END:STANDARD
END:VTIMEZONE
BEGIN:VEVENT
DTSTART;TZID=America/Sao_Paulo:20260427T190000
DTEND;TZID=America/Sao_Paulo:20260427T210000
DTSTAMP:20260420T115812
CREATED:20260417T130323Z
LAST-MODIFIED:20260417T130323Z
UID:17359-1777316400-1777323600@est.edu.br
SUMMARY:Aula Aberta
DESCRIPTION:Com o tema “Max Weber\, desencantamento do mundo e teologia: diagnóstico e possibilidades”\, a atividade parte das contribuições de Max Weber para examinar os efeitos da modernidade na compreensão da fé\, da existência e da relação entre ser humano e natureza. A proposta inclui uma leitura crítica do processo de racionalização e suas implicações no cenário atual. \nO convidado principal é o doutor em Teologia Fundamental-Sistemática\, pesquisador Pablo Fernando Dumer\, que desenvolve pesquisa de pós-doutorado na instituição com foco na relação entre natureza e graça. A atividade conta ainda com a participação do diretor-geral da EST\, Valério Guilherme Schaper\, referência na área de ética teológica\, e com apresentação do doutor em Teologia\, Thiago Almeida Silveira. \nA participação é aberta ao público com a opção de certificado. O evento é online e as inscrições já estão abertas 👉 https://even3.com.br/aulaaberta
URL:https://est.edu.br/evento/aula-aberta/
CATEGORIES:Aula Aberta
END:VEVENT
END:VCALENDAR